Workbook

Sheet Startovka
A1: Závod | B1: 12:45 - kat. 9.ročník 500 m
A2: Trenažér č. | B2: 1 | D2: Čas | E2: 2 | G2: Čas | H2: 3 | J2: Čas | K2: 4 | M2: Čas | N2: 5 | P2: Čas | Q2: 6 | S2: Čas
A3: Škola | B3: ZŠ Nedvědova A | D3: =SUM(D4:D8) -> 0.0071342593 | E3: ZŠ Holečkova | G3: =SUM(G4:G8) -> 0.0065775463 | H3: ZŠ Spojenců | J3: =SUM(J4:J8) -> 0.0064143519 | K3: ZŠ Rožňavská | M3: =SUM(M4:M8) -> 0.0074722222 | N3: - | P3: =SUM(P4:P8) -> 0 | Q3: - | S3: =SUM(S4:S8) -> 0
A4: 1. | B4: Doležalová Martina | C4: 2 | D4: 0.0012800926 | E4: Němec Petr | F4: 1 | G4: 0.0013275463 | H4: Minarský Filip | I4: 1 | J4: 0.0011851852 | K4: Adámek J. | L4: 1 | M4: 0.0014537037 | N4: - | O4: 9 | Q4: - | R4: 9
A5: 2. | B5: Vařeková Eliška | C5: 2 | D5: 0.0015671296 | E5: Konůpková Kateřina | F5: 2 | G5: 0.001400463 | H5: Jandová Katka | I5: 2 | J5: 0.001275463 | K5: Janků Monika | L5: 2 | M5: 0.0015648148 | N5: - | O5: 9 | Q5: - | R5: 9
A6: 3. | B6: Streit Vojta | C6: 1 | D6: 0.0013263889 | E6: Sitár Viliam | F6: 1 | G6: 0.0013206019 | H6: Špulák David | I6: 1 | J6: 0.0011388889 | K6: Janošek René | L6: 1 | M6: 0.0013055556 | N6: - | O6: 9 | Q6: - | R6: 9
A7: 4. | B7: Fialová Veronika | C7: 2 | D7: 0.0014872685 | E7: Piechulová Jana | F7: 3 | G7: 0.0013009259 | H7: Glogarová Aneta | I7: 2 | J7: 0.0015636574 | K7: Kvapilová Kristýna | L7: 2 | M7: 0.0015717593 | N7: - | O7: 9 | Q7: - | R7: 9
A8: 5. | B8: Kvapilová Vladimíra | C8: 2 | D8: 0.0014733796 | E8: Somol Jakub | F8: 1 | G8: 0.0012280093 | H8: Müller Martin | I8: 1 | J8: 0.0012511574 | K8: Pravcová Naďa | L8: 2 | M8: 0.0015763889 | N8: - | O8: 9 | Q8: - | R8: 9
A10: Závod | B10: 13:00 - kat. 5.-6.roč. 300 m
A11: Trenažér č. | B11: 1 | D11: Čas | E11: 2 | G11: Čas | H11: 3 | J11: Čas | K11: 4 | M11: Čas | N11: 5 | P11: Čas
A12: Škola | B12: ZŠ Nedvědova A | D12: =SUM(D13:D17) -> 0.0045787037 | E12: ZŠ Stupkova | G12: =SUM(G13:G17) -> 0.0046851852 | H12: Gymnazium Čajkov. | J12: =SUM(J13:J17) -> 0.0047395833 | K12: ZŠ Hálkova A | M12: =SUM(M13:M17) -> 0.0046145833 | N12: - | P12: =SUM(P13:P17) -> 0
A13: 6 | B13: Piškula Michael | C13: 4 | D13: 0.0008599537 | E13: Stašek Pavel | F13: 1 | G13: 0.00083912037 | H13: Šváb Ondřej | I13: 4 | J13: 0.00093055556 | K13: Mecka David | L13: 4 | M13: 0.00084606481 | N13: - | O13: 9
A14: 7 | B14: Doubková Nicol | C14: 2 | D14: 0.00097569444 | E14: Smetanová Eva | F14: 2 | G14: 0.0010011574 | H14: Sisková Anna | I14: 2 | J14: 0.00092592593 | K14: Rellová Eliška | L14: 2 | M14: 0.00098611111 | N14: - | O14: 9
A15: 8 | B15: Zvěř Tomáš | C15: 1 | D15: 0.0008599537 | E15: Baďura Radim | F15: 1 | G15: 0.0009849537 | H15: Wolf Daniel | I15: 1 | J15: 0.00096875 | K15: Švehla Libor | L15: 1 | M15: 0.00089930556 | N15: - | O15: 9
A16: 9 | B16: Hálová Tereza | C16: 2 | D16: 0.00094444444 | E16: Dostálová Lucie | F16: 2 | G16: 0.0010185185 | H16: Urbanová Jana | I16: 2 | J16: 0.00096412037 | K16: Konečná Adéla | L16: 2 | M16: 0.00097569444 | N16: - | O16: 9
A17: 10 | B17: Gajoš Ondřej | C17: 1 | D17: 0.00093865741 | E17: Koutný Stanislav | F17: 1 | G17: 0.00084143519 | H17: Balog Martin | I17: 1 | J17: 0.00095023148 | K17: Římský Matěj | L17: 1 | M17: 0.00090740741 | N17: - | O17: 9
A19: Závod | B19: 13:10 - 5.-6.roč. 300 m
A20: Trenažér č. | B20: 1 | D20: Čas | E20: 2 | G20: Čas | H20: 3 | J20: Čas | K20: 4 | M20: Čas | N20: 5 | P20: Čas
A21: Škola | B21: ZŠ Nedvědova B | D21: =SUM(D22:D26) -> 0.0050590278 | E21: ZŠ Hněvotín | G21: =SUM(G22:G26) -> 0.0051597222 | H21: FZŠ Tererovo nám | J21: =SUM(J22:J26) -> 0.0045659722 | K21: ZŠ Hálkova B | M21: =SUM(M22:M26) -> 0.0044328704 | N21: - | P21: =SUM(P22:P26) -> 0
A22: 11 | B22: Malík Jan | C22: 4 | D22: 0.00094212963 | E22: Horáček Lukáš | F22: 1 | G22: 0.00084027778 | H22: Vykydal Ondřej | I22: 1 | J22: 0.00093055556 | K22: Zdráhal Adam | L22: 4 | M22: 0.00068865741 | N22: - | O22: 9
A23: 12 | B23: Mazánková Adéla | C23: 2 | D23: 0.0010405093 | E23: Klimková Kristýna | F23: 2 | G23: 0.0011319444 | H23: Kollárová Pavlína | I23: 2 | J23: 0.00088425926 | K23: Kořínková Vendula | L23: 2 | M23: 0.00093055556 | N23: - | O23: 9
A24: 13 | B24: Nečas Michal | C24: 1 | D24: 0.00098611111 | E24: Vojáček Milan | F24: 1 | G24: 0.00096296296 | H24: Hretu Vasil | I24: 1 | J24: 0.00092708333 | K24: Kouřil Matěj | L24: 1 | M24: 0.00089699074 | N24: - | O24: 9
A25: 14 | B25: Šperlíková Markéta | C25: 2 | D25: 0.0011805556 | E25: Sohrová Jitka | F25: 2 | G25: 0.0011400463 | H25: Müllerová Viktorie | I25: 2 | J25: 0.00094791667 | K25: Brázdová Adéla | L25: 2 | M25: 0.0010034722 | N25: - | O25: 9
A26: 15 | B26: Růžička Eduard | C26: 1 | D26: 0.00090972222 | E26: Toufarová Nikola | F26: 2 | G26: 0.0010844907 | H26: Kuchařík Simon | I26: 1 | J26: 0.00087615741 | K26: Petrecký Adam | L26: 1 | M26: 0.00091319444 | N26: - | O26: 9
A28: Závod | B28: 13:40 - 7.-8.roč. 400 m
A29: Trenažér č. | B29: 1 | D29: Čas | E29: 2 | G29: Čas | H29: 3 | J29: Čas | K29: 4 | M29: Čas | N29: 5 | P29: Čas
A30: Škola | B30: ZŠ Holečkova | D30: =SUM(D31:D35) -> 0.0054548611 | E30: ZŠ Hálkova A | G30: =SUM(G31:G35) -> 0.0053761574 | H30: ZŠ Terera | J30: =SUM(J31:J35) -> 0.0055752315 | K30: ZŠ Hněvotín | M30: =SUM(M31:M35) -> 0.0059155093 | N30: - | P30: =SUM(P31:P35) -> 0
A31: 16 | B31: Franek Antonín | C31: 4 | D31: 0.0010972222 | E31: Kuchař Petr | F31: 4 | G31: 0.0010219907 | H31: Tichý Daniel | I31: 1 | J31: 0.0011296296 | K31: Kreuzer Jan | L31: 1 | M31: 0.0011018519 | N31: - | O31: 9
A32: 17 | B32: Vítková Kristýna | C32: 2 | D32: 0.001099537 | E32: Čermáková Kateřina | F32: 2 | G32: 0.001125 | H32: Budišová Kateřina | I32: 2 | J32: 0.0011875 | K32: Mikelová Růžena | L32: 2 | M32: 0.0011666667 | N32: - | O32: 9
A33: 18 | B33: Hrůzek Tomáš | C33: 1 | D33: 0.0010243056 | E33: Raiskub Tomáš | F33: 1 | G33: 0.0010081019 | H33: Janků Libor | I33: 1 | J33: 0.00094212963 | K33: Poledníček Martin | L33: 1 | M33: 0.0012893519 | N33: - | O33: 9
A34: 19 | B34: Vaňková Barbora | C34: 2 | D34: 0.0011331019 | E34: Kohnová Sabina | F34: 2 | G34: 0.0011840278 | H34: Glogarová Nikola | I34: 2 | J34: 0.0011122685 | K34: Pospíchalová Klára | L34: 2 | M34: 0.001162037 | N34: - | O34: 9
A35: 20 | B35: Očenášek Jiři | C35: 1 | D35: 0.0011006944 | E35: Vlasák David | F35: 1 | G35: 0.001037037 | H35: Jabůrková Kateřina | I35: 2 | J35: 0.0012037037 | K35: Staňo Michal | L35: 1 | M35: 0.0011956019 | N35: - | O35: 9
A37: Závod | B37: 13:50 - 7.-8.roč. 400 m
A38: Trenažér č. | B38: 1 | D38: Čas | E38: 2 | G38: Čas | H38: 3 | J38: Čas | K38: 4 | M38: Čas | N38: 5 | P38: Čas
A39: Škola | B39: ZŠ Stupkova | D39: =SUM(D40:D44) -> 0.0053263889 | E39: ZŠ Hálkova B | G39: =SUM(G40:G44) -> 0.0054675926 | H39: ZŠ Nedvědova B | J39: =SUM(J40:J44) -> 0.0058564815 | K39: ZŠ Rožňavská | M39: =SUM(M40:M44) -> 0.00565625 | N39: - | P39: =SUM(P40:P44) -> 0
A40: 21 | B40: Ponikelská Dita | C40: 3 | D40: 0.0010358796 | E40: Skopalík Martin | F40: 1 | G40: 0.0012083333 | H40: Josefčuk Petr | I40: 1 | J40: 0.0011053241 | K40: Láhnerová Petra | L40: 3 | M40: 0.00094328704 | N40: - | O40: 9
A41: 22 | B41: Tomečková Ludmila | C41: 2 | D41: 0.0010717593 | E41: Knausová Anežka | F41: 2 | G41: 0.0012291667 | H41: Hájková Barbora | I41: 2 | J41: 0.0013298611 | K41: Mlčochová Monika | L41: 2 | M41: 0.0011527778 | N41: - | O41: 9
A42: 23 | B42: Gajdoš Ondřej | C42: 1 | D42: 0.00096412037 | E42: Bednář Vojtěch | F42: 1 | G42: 0.00096990741 | H42: Beníšek David | I42: 1 | J42: 0.0010752315 | K42: Londin Igor | L42: 1 | M42: 0.0012974537 | N42: - | O42: 9
A43: 24 | B43: Pitauerová Ivana | C43: 2 | D43: 0.0011759259 | E43: Prchalová Barbora | F43: 3 | G43: 0.0010416667 | H43: Štýbnarová Kateřina | I43: 2 | J43: 0.0012488426 | K43: Slevinská Kristýna | L43: 2 | M43: 0.001193287 | N43: - | O43: 9
A44: 25 | B44: Schusterová Michaela | C44: 2 | D44: 0.0010787037 | E44: Janka Lukáš | F44: 1 | G44: 0.0010185185 | H44: Spurný Martin | I44: 1 | J44: 0.0010972222 | K44: Nohl Martin | L44: 1 | M44: 0.0010694444 | N44: - | O44: 9

Sheet Jednotlivci
A2: 9. ročník | E2: 7-8. ročník | I2: 5-6. ročník
A3: =Startovka!H6 -> Špulák David | C3: =Startovka!J6 -> 0.0011388889 | E3: =Startovka!H33 -> Janků Libor | G3: =Startovka!J33 -> 0.00094212963 | I3: =Startovka!E13 -> Stašek Pavel | K3: =Startovka!G13 -> 0.00083912037
A4: =Startovka!H4 -> Minarský Filip | C4: =Startovka!J4 -> 0.0011851852 | E4: =Startovka!B42 -> Gajdoš Ondřej | G4: =Startovka!D42 -> 0.00096412037 | I4: =Startovka!E22 -> Horáček Lukáš | K4: =Startovka!G22 -> 0.00084027778
A5: =Startovka!E8 -> Somol Jakub | C5: =Startovka!G8 -> 0.0012280093 | E5: =Startovka!E42 -> Bednář Vojtěch | G5: =Startovka!G42 -> 0.00096990741 | I5: =Startovka!E17 -> Koutný Stanislav | K5: =Startovka!G17 -> 0.00084143519
A6: =Startovka!H8 -> Müller Martin | C6: =Startovka!J8 -> 0.0012511574 | E6: =Startovka!E33 -> Raiskub Tomáš | G6: =Startovka!G33 -> 0.0010081019 | I6: =Startovka!B15 -> Zvěř Tomáš | K6: =Startovka!D15 -> 0.0008599537
A7: =Startovka!K6 -> Janošek René | C7: =Startovka!M6 -> 0.0013055556 | E7: =Startovka!E44 -> Janka Lukáš | G7: =Startovka!G44 -> 0.0010185185 | I7: =Startovka!H26 -> Kuchařík Simon | K7: =Startovka!J26 -> 0.00087615741
A8: =Startovka!E6 -> Sitár Viliam | C8: =Startovka!G6 -> 0.0013206019 | E8: =Startovka!B33 -> Hrůzek Tomáš | G8: =Startovka!D33 -> 0.0010243056 | I8: =Startovka!K24 -> Kouřil Matěj | K8: =Startovka!M24 -> 0.00089699074
A9: =Startovka!B6 -> Streit Vojta | C9: =Startovka!D6 -> 0.0013263889 | E9: =Startovka!E35 -> Vlasák David | G9: =Startovka!G35 -> 0.001037037 | I9: =Startovka!K15 -> Švehla Libor | K9: =Startovka!M15 -> 0.00089930556
A10: =Startovka!E4 -> Němec Petr | C10: =Startovka!G4 -> 0.0013275463 | E10: =Startovka!K44 -> Nohl Martin | G10: =Startovka!M44 -> 0.0010694444 | I10: =Startovka!K17 -> Římský Matěj | K10: =Startovka!M17 -> 0.00090740741
A11: =Startovka!K4 -> Adámek J. | C11: =Startovka!M4 -> 0.0014537037 | E11: =Startovka!H42 -> Beníšek David | G11: =Startovka!J42 -> 0.0010752315 | I11: =Startovka!B26 -> Růžička Eduard | K11: =Startovka!D26 -> 0.00090972222
A12: =Startovka!H5 -> Jandová Katka | C12: =Startovka!J5 -> 0.001275463 | E12: =Startovka!H44 -> Spurný Martin | G12: =Startovka!J44 -> 0.0010972222 | I12: =Startovka!K26 -> Petrecký Adam | K12: =Startovka!M26 -> 0.00091319444
A13: =Startovka!B4 -> Doležalová Martina | C13: =Startovka!D4 -> 0.0012800926 | E13: =Startovka!B35 -> Očenášek Jiři | G13: =Startovka!D35 -> 0.0011006944 | I13: =Startovka!H24 -> Hretu Vasil | K13: =Startovka!J24 -> 0.00092708333
A14: =Startovka!E5 -> Konůpková Kateřina | C14: =Startovka!G5 -> 0.001400463 | E14: =Startovka!K31 -> Kreuzer Jan | G14: =Startovka!M31 -> 0.0011018519 | I14: =Startovka!H22 -> Vykydal Ondřej | K14: =Startovka!J22 -> 0.00093055556
A15: =Startovka!B8 -> Kvapilová Vladimíra | C15: =Startovka!D8 -> 0.0014733796 | E15: =Startovka!H40 -> Josefčuk Petr | G15: =Startovka!J40 -> 0.0011053241 | I15: =Startovka!B17 -> Gajoš Ondřej | K15: =Startovka!D17 -> 0.00093865741
A16: =Startovka!B6 -> Streit Vojta | C16: =Startovka!D7 -> 0.0014872685 | E16: =Startovka!H31 -> Tichý Daniel | G16: =Startovka!J31 -> 0.0011296296 | I16: =Startovka!H17 -> Balog Martin | K16: =Startovka!J17 -> 0.00095023148
A17: =Startovka!H7 -> Glogarová Aneta | C17: =Startovka!J7 -> 0.0015636574 | E17: =Startovka!K35 -> Staňo Michal | G17: =Startovka!M35 -> 0.0011956019 | I17: =Startovka!E24 -> Vojáček Milan | K17: =Startovka!G24 -> 0.00096296296
A18: =Startovka!K5 -> Janků Monika | C18: =Startovka!M5 -> 0.0015648148 | E18: =Startovka!E40 -> Skopalík Martin | G18: =Startovka!G40 -> 0.0012083333 | I18: =Startovka!H15 -> Wolf Daniel | K18: =Startovka!J15 -> 0.00096875
A19: =Startovka!B5 -> Vařeková Eliška | C19: =Startovka!D5 -> 0.0015671296 | E19: =Startovka!K33 -> Poledníček Martin | G19: =Startovka!M33 -> 0.0012893519 | I19: =Startovka!E15 -> Baďura Radim | K19: =Startovka!G15 -> 0.0009849537
A20: =Startovka!K7 -> Kvapilová Kristýna | C20: =Startovka!M7 -> 0.0015717593 | E20: =Startovka!K42 -> Londin Igor | G20: =Startovka!M42 -> 0.0012974537 | I20: =Startovka!B24 -> Nečas Michal | K20: =Startovka!D24 -> 0.00098611111
A21: =Startovka!K8 -> Pravcová Naďa | C21: =Startovka!M8 -> 0.0015763889 | E21: =Startovka!B41 -> Tomečková Ludmila | G21: =Startovka!D41 -> 0.0010717593 | I21: =Startovka!H23 -> Kollárová Pavlína | K21: =Startovka!J23 -> 0.00088425926
A22: =Startovka!E7 -> Piechulová Jana | C22: =Startovka!G7 -> 0.0013009259 | E22: =Startovka!B44 -> Schusterová Michaela | G22: =Startovka!D44 -> 0.0010787037 | I22: =Startovka!H14 -> Sisková Anna | K22: =Startovka!J14 -> 0.00092592593
A23: =Startovka!N6 -> - | C23: =Startovka!P6 -> 0 | E23: =Startovka!B32 -> Vítková Kristýna | G23: =Startovka!D32 -> 0.001099537 | I23: =Startovka!K23 -> Kořínková Vendula | K23: =Startovka!M23 -> 0.00093055556
A24: =Startovka!N8 -> - | C24: =Startovka!P8 -> 0 | E24: =Startovka!H34 -> Glogarová Nikola | F24: =Startovka!I34 -> 2 | G24: =Startovka!J34 -> 0.0011122685 | I24: =Startovka!B16 -> Hálová Tereza | K24: =Startovka!D16 -> 0.00094444444
A25: =Startovka!Q4 -> - | C25: =Startovka!S4 -> 0 | E25: =Startovka!E32 -> Čermáková Kateřina | G25: =Startovka!G32 -> 0.001125 | I25: =Startovka!H25 -> Müllerová Viktorie | K25: =Startovka!J25 -> 0.00094791667
A26: =Startovka!Q6 -> - | C26: =Startovka!S6 -> 0 | E26: =Startovka!B34 -> Vaňková Barbora | G26: =Startovka!D34 -> 0.0011331019 | I26: =Startovka!H16 -> Urbanová Jana | K26: =Startovka!J16 -> 0.00096412037
A27: =Startovka!Q8 -> - | C27: =Startovka!S8 -> 0 | E27: =Startovka!K41 -> Mlčochová Monika | G27: =Startovka!M41 -> 0.0011527778 | I27: =Startovka!B14 -> Doubková Nicol | K27: =Startovka!D14 -> 0.00097569444
A28: =Startovka!N5 -> - | C28: =Startovka!P5 -> 0 | E28: =Startovka!K34 -> Pospíchalová Klára | G28: =Startovka!M34 -> 0.001162037 | I28: =Startovka!K16 -> Konečná Adéla | K28: =Startovka!M16 -> 0.00097569444
A29: =Startovka!N7 -> - | C29: =Startovka!P7 -> 0 | E29: =Startovka!K32 -> Mikelová Růžena | G29: =Startovka!M32 -> 0.0011666667 | I29: =Startovka!K14 -> Rellová Eliška | K29: =Startovka!M14 -> 0.00098611111
A30: =Startovka!Q5 -> - | C30: =Startovka!S5 -> 0 | E30: =Startovka!B43 -> Pitauerová Ivana | G30: =Startovka!D43 -> 0.0011759259 | I30: =Startovka!E14 -> Smetanová Eva | K30: =Startovka!G14 -> 0.0010011574
A31: =Startovka!Q7 -> - | C31: =Startovka!S7 -> 0 | E31: =Startovka!E34 -> Kohnová Sabina | G31: =Startovka!G34 -> 0.0011840278 | I31: =Startovka!K25 -> Brázdová Adéla | K31: =Startovka!M25 -> 0.0010034722
A32: =Startovka!N4 -> - | C32: =Startovka!P4 -> 0 | E32: =Startovka!H32 -> Budišová Kateřina | G32: =Startovka!J32 -> 0.0011875 | I32: =Startovka!E16 -> Dostálová Lucie | K32: =Startovka!G16 -> 0.0010185185
E33: =Startovka!K43 -> Slevinská Kristýna | G33: =Startovka!M43 -> 0.001193287 | I33: =Startovka!B23 -> Mazánková Adéla | K33: =Startovka!D23 -> 0.0010405093
E34: =Startovka!H35 -> Jabůrková Kateřina | G34: =Startovka!J35 -> 0.0012037037 | I34: =Startovka!E26 -> Toufarová Nikola | K34: =Startovka!G26 -> 0.0010844907
E35: =Startovka!E41 -> Knausová Anežka | G35: =Startovka!G41 -> 0.0012291667 | I35: =Startovka!E23 -> Klimková Kristýna | K35: =Startovka!G23 -> 0.0011319444
E36: =Startovka!H43 -> Štýbnarová Kateřina | G36: =Startovka!J43 -> 0.0012488426 | I36: =Startovka!E25 -> Sohrová Jitka | K36: =Startovka!G25 -> 0.0011400463
E37: =Startovka!H41 -> Hájková Barbora | G37: =Startovka!J41 -> 0.0013298611 | I37: =Startovka!B25 -> Šperlíková Markéta | K37: =Startovka!D25 -> 0.0011805556
E38: =Startovka!K40 -> Láhnerová Petra | G38: =Startovka!M40 -> 0.00094328704 | I38: =Startovka!K22 -> Zdráhal Adam | K38: =Startovka!M22 -> 0.00068865741
E39: =Startovka!B40 -> Ponikelská Dita | G39: =Startovka!D40 -> 0.0010358796 | I39: =Startovka!K13 -> Mecka David | K39: =Startovka!M13 -> 0.00084606481
E40: =Startovka!E43 -> Prchalová Barbora | G40: =Startovka!G43 -> 0.0010416667 | I40: =Startovka!B13 -> Piškula Michael | K40: =Startovka!D13 -> 0.0008599537
E41: =Startovka!E31 -> Kuchař Petr | G41: =Startovka!G31 -> 0.0010219907 | I41: =Startovka!H13 -> Šváb Ondřej | K41: =Startovka!J13 -> 0.00093055556
...

Sheet Školy
B2: 1. Kolo | E2: 2.Kolo
A3: 9 ročník | B3: ZŠ Spojenců | C3: 0.0061435185 | E3: =Startovka!H3 -> ZŠ Spojenců | F3: =Startovka!J3 -> 0.0064143519 | G3: =SUM(C3,F3) -> 0.01255787
B4: ZŠ Holečkova | C4: 0.0063958333 | E4: =Startovka!E3 -> ZŠ Holečkova | F4: =Startovka!G3 -> 0.0065775463 | G4: =SUM(C4,F4) -> 0.01297338
B5: ZŠ Nedvědova A | C5: 0.0066145833 | E5: =Startovka!B3 -> ZŠ Nedvědova A | F5: =Startovka!D3 -> 0.0071342593 | G5: =SUM(C5,F5) -> 0.013748843
E6: =Startovka!K3 -> ZŠ Rožňavská | F6: =Startovka!M3 -> 0.0074722222
E7: =Startovka!N3 -> - | F7: =Startovka!P3 -> 0
E8: =Startovka!Q3 -> - | F8: =Startovka!S3 -> 0
A10: 7-8. ročník | B10: ZŠ Hálkova A | C10: 0.0053113426 | E10: =Startovka!N30 -> - | F10: =Startovka!P30 -> 0 | J10: ZŠ Hálkova A | K10: 0.0053113426 | L10: 0.0053761574 | M10: =SUM(K10:L10) -> 0.0106875
B11: ZŠ Stupkova | C11: 0.0054814815 | E11: =Startovka!B39 -> ZŠ Stupkova | F11: =Startovka!D39 -> 0.0053263889 | J11: ZŠ Stupkova | K11: 0.0054814815 | L11: 0.0053263889 | M11: =SUM(K11:L11) -> 0.01080787
B12: ZŠ Holečkova | C12: 0.0055821759 | E12: =Startovka!E30 -> ZŠ Hálkova A | F12: =Startovka!G30 -> 0.0053761574 | J12: ZŠ Holečkova | K12: 0.0055821759 | L12: 0.0054548611 | M12: =SUM(K12:L12) -> 0.011037037
B13: ZŠ Nedvědova A | C13: 0.0058581019 | E13: =Startovka!B30 -> ZŠ Holečkova | F13: =Startovka!D30 -> 0.0054548611 | J13: ZŠ Terera | K13: 0.0060069444 | L13: 0.0055752315 | M13: =SUM(K13:L13) -> 0.011582176
B14: ZŠ Nedvědova B | C14: 0.0058587963 | E14: =Startovka!E39 -> ZŠ Hálkova B | F14: =Startovka!G39 -> 0.0054675926 | J14: ZŠ Nedvědova B | K14: 0.0058587963 | L14: 0.0058564815 | M14: =SUM(K14:L14) -> 0.011715278
B15: ZŠ Terera | C15: 0.0060069444 | E15: =Startovka!H30 -> ZŠ Terera | F15: =Startovka!J30 -> 0.0055752315
E16: =Startovka!K39 -> ZŠ Rožňavská | F16: =Startovka!M39 -> 0.00565625
E17: =Startovka!H39 -> ZŠ Nedvědova B | F17: =Startovka!J39 -> 0.0058564815
E18: =Startovka!K30 -> ZŠ Hněvotín | F18: =Startovka!M30 -> 0.0059155093
K19: 1. kolo | L19: 2. kolo | M19: Celkem
A20: 5-6. ročník | B20: ZŠ Hálkova B | C20: 0.0044166667 | E20: =Startovka!K21 -> ZŠ Hálkova B | F20: =Startovka!M21 -> 0.0044328704 | J20: ZŠ Hálkova B | K20: 0.0044166667 | L20: 0.0044328704 | M20: =SUM(K20:L20) -> 0.008849537
B21: ZŠ Čajkov | C21: 0.0047118056 | E21: =Startovka!H21 -> FZŠ Tererovo nám | F21: =Startovka!J21 -> 0.0045659722 | J21: ZŠ Hálkova A | K21: 0.0047268519 | L21: 0.0046145833 | M21: =SUM(K21:L21) -> 0.0093414352
B22: ZŠ Hálkova A | C22: 0.0047268519 | E22: =Startovka!B12 -> ZŠ Nedvědova A | F22: =Startovka!D12 -> 0.0045787037 | J22: FZŠ Tererovo nám | K22: 0.0048831019 | L22: 0.0045659722 | M22: =SUM(K22:L22) -> 0.0094490741
B23: FZŠ Tererovo nám | C23: 0.0048831019 | E23: =Startovka!K12 -> ZŠ Hálkova A | F23: =Startovka!M12 -> 0.0046145833 | J23: ZŠ Čajkov | K23: 0.0047118056 | L23: 0.0047395833 | M23: =SUM(K23:L23) -> 0.0094513889
B24: ZŠ Hněvotín | C24: 0.00490625 | E24: =Startovka!E12 -> ZŠ Stupkova | F24: =Startovka!G12 -> 0.0046851852 | J24: ZŠ Hněvotín | K24: 0.00490625 | L24: 0.0051597222 | M24: =SUM(K24:L24) -> 0.010065972
E25: =Startovka!H12 -> Gymnazium Čajkov. | F25: =Startovka!J12 -> 0.0047395833
E26: =Startovka!B21 -> ZŠ Nedvědova B | F26: =Startovka!D21 -> 0.0050590278
E27: =Startovka!E21 -> ZŠ Hněvotín | F27: =Startovka!G21 -> 0.0051597222
